BEGIN:VCALENDAR
VERSION:2.0
PRODID:-//New Mexico Broadcasters Association - ECPv6.15.20//NONSGML v1.0//EN
CALSCALE:GREGORIAN
METHOD:PUBLISH
X-ORIGINAL-URL:https://www.nmba.org
X-WR-CALDESC:Events for New Mexico Broadcasters Association
REFRESH-INTERVAL;VALUE=DURATION:PT1H
X-Robots-Tag:noindex
X-PUBLISHED-TTL:PT1H
BEGIN:VTIMEZONE
TZID:America/Denver
BEGIN:DAYLIGHT
TZOFFSETFROM:-0700
TZOFFSETTO:-0600
TZNAME:MDT
DTSTART:20240310T090000
END:DAYLIGHT
BEGIN:STANDARD
TZOFFSETFROM:-0600
TZOFFSETTO:-0700
TZNAME:MST
DTSTART:20241103T080000
END:STANDARD
BEGIN:DAYLIGHT
TZOFFSETFROM:-0700
TZOFFSETTO:-0600
TZNAME:MDT
DTSTART:20250309T090000
END:DAYLIGHT
BEGIN:STANDARD
TZOFFSETFROM:-0600
TZOFFSETTO:-0700
TZNAME:MST
DTSTART:20251102T080000
END:STANDARD
BEGIN:DAYLIGHT
TZOFFSETFROM:-0700
TZOFFSETTO:-0600
TZNAME:MDT
DTSTART:20260308T090000
END:DAYLIGHT
BEGIN:STANDARD
TZOFFSETFROM:-0600
TZOFFSETTO:-0700
TZNAME:MST
DTSTART:20261101T080000
END:STANDARD
END:VTIMEZONE
BEGIN:VEVENT
DTSTART;TZID=America/Denver:20250604T000000
DTEND;TZID=America/Denver:20250604T000000
DTSTAMP:20260420T134225
CREATED:20250604T205857Z
LAST-MODIFIED:20250604T210818Z
UID:21893-1748995200-1748995200@www.nmba.org
SUMMARY:NMBA Board of Directors Meeting
DESCRIPTION:
URL:https://www.nmba.org/nmbaevent/nmba-board-of-directors-meeting/
CATEGORIES:meetings
ATTACH;FMTTYPE=image/jpeg:https://www.nmba.org/wp-content/uploads/2021/04/Calendar-300x300-1.jpg
ORGANIZER;CN="NMBA":MAILTO:info@nmba.org
END:VEVENT
END:VCALENDAR